BEGIN:VCALENDAR
VERSION:2.0
PRODID:-//Dori Midnight - ECPv6.15.20//NONSGML v1.0//EN
CALSCALE:GREGORIAN
METHOD:PUBLISH
X-WR-CALNAME:Dori Midnight
X-ORIGINAL-URL:https://dorimidnight.com
X-WR-CALDESC:Events for Dori Midnight
REFRESH-INTERVAL;VALUE=DURATION:PT1H
X-Robots-Tag:noindex
X-PUBLISHED-TTL:PT1H
BEGIN:VTIMEZONE
TZID:America/New_York
BEGIN:DAYLIGHT
TZOFFSETFROM:-0500
TZOFFSETTO:-0400
TZNAME:EDT
DTSTART:20210314T070000
END:DAYLIGHT
BEGIN:STANDARD
TZOFFSETFROM:-0400
TZOFFSETTO:-0500
TZNAME:EST
DTSTART:20211107T060000
END:STANDARD
BEGIN:DAYLIGHT
TZOFFSETFROM:-0500
TZOFFSETTO:-0400
TZNAME:EDT
DTSTART:20220313T070000
END:DAYLIGHT
BEGIN:STANDARD
TZOFFSETFROM:-0400
TZOFFSETTO:-0500
TZNAME:EST
DTSTART:20221106T060000
END:STANDARD
BEGIN:DAYLIGHT
TZOFFSETFROM:-0500
TZOFFSETTO:-0400
TZNAME:EDT
DTSTART:20230312T070000
END:DAYLIGHT
BEGIN:STANDARD
TZOFFSETFROM:-0400
TZOFFSETTO:-0500
TZNAME:EST
DTSTART:20231105T060000
END:STANDARD
END:VTIMEZONE
BEGIN:VEVENT
DTSTART;TZID=America/New_York:20220410T170000
DTEND;TZID=America/New_York:20220410T193000
DTSTAMP:20260424T182126
CREATED:20220318T211517Z
LAST-MODIFIED:20220406T151604Z
UID:2373-1649610000-1649619000@dorimidnight.com
SUMMARY:BITTER WATERS: radical healing & liberatory legacies of Miriam the Prophetess
DESCRIPTION:  \n\n\n\nEvery year for Passover\, we retell the story of the journey from the narrows to the expanse\, from enslavement to freedom\, and find new meaning and inspiration for our own lives. Some of us (thanks to Jewish lesbian feminists in the 1970s) might lift a cup to Miriam\, who danced\, drummed and sang us to the other side of the sea\, but why stop there? Miriam’s bitter and healing waters run deep – her legacy can be a source of inspiration for revealing the “undertold stories” and centering the wisdom of the body that guides us towards joyful resistance\, liberation and healing. In the Torah\, Miriam is called haNeviah: the prophetess; she is both lifted up as a community ritual leader and healer\, and also punished for her power. \n\n\n\nIt is said that every Saturday night the water from Miriam’s well flows through all the waterways in the world\, bringing healing. Join us as we dive into the depths of Miriam’s well and in the grand tradition of radical queer and feminist midrashic play\, splash around in text\, tales\, rituals and our own collective wisdom. We will immerse in the sea of possibilities of Miriam as Prophetess\, Miriam as Joyous Embodied Liberation Worker\, and Miriam as Sick and Bitter Elder Femme of Color Healer. We will learn about her associations with drum\, dance\, hand\, circle\, water\, keys\, and plants. Joined by a few special guests\, we will dip into diasporic Jewish folk healing traditions that invoke Miriam\, be guided in delightful and deep practices and ritual\, and explore how we might draw from her waters for liberation and healing. \nImage: fresco from Dura Europos Synagogue\, Syria\, around 12th century \nimage description: painting in earth tones of 6 golden brown people in tunics and headdresses holding vessels and drums on the banks of a river with 1 naked person immersed in the water holding a baby \n\n\n\nCost\n\n\n\nWorkshop is $36-$54Low income tickets available for $18If you have access to more resources please pay a higher rate of: $72-$108 \n\n\n\n*for more about how to determine what to pay on sliding scale see about my rates \n\n\n\nA portion of proceeds will be split between Alliance for Water Justice in Palestine and a mutual aid fund to support Jade’s kidney transplant  \n\n\n\nAccess Info\n\n\n\nEveryone welcome*! No knowledge of Judaism\, Hebrew\, or Miriam necessary!Live captioning & ASL available (please share access needs in registration form)*Class space is dedicated to liberatory learning and counter-oppressive magic. \n\n\n\n\nLive captioning & ASL available\nThere will be no flashing lights.\nThere will be music\, optional movement and ritual practices\, sumptuous slides\, and a handout with text and resources.\nAll text will be transliterated/translated into English.\nThere will be a 5 minute break in the middle of the class.\nEvent will be recorded\, recording will be sent out within the week and available for 60 days. \n\n\n\n\nQuestions?\n\n\n\nEmail loveandquestionsfordori@gmail.com \n\n\n\nRegistration\nSorry\, registration is closed.
URL:https://dorimidnight.com/event/bitter-waters/
ATTACH;FMTTYPE=image/jpeg:https://dorimidnight.com/wp-content/uploads/2022/03/Ancient-Dura-Europos-Synagogue-fresco-of-Moses-being-drawn-from-the-Nile-c-244.jpg
END:VEVENT
END:VCALENDAR